BEGIN:VCALENDAR
VERSION:2.0
PRODID:-//Funtington Parish Council//Meeting Calendar//EN
CALSCALE:GREGORIAN
METHOD:PUBLISH
BEGIN:VEVENT
UID:71111-20261202@funtington-pc.gov.uk
DTSTAMP:20260422T132532Z
DTSTART;VALUE=DATE:20261202
DTEND;VALUE=DATE:20261203
SUMMARY:Planning Committee Meeting &#8211\\; 2nd December 2026
DESCRIPTION:Planning Committee Meeting\nView details: https://funtington-pc.gov.uk/meetings/planning-committee-meeting-2nd-december-2026/
URL:https://funtington-pc.gov.uk/meetings/planning-committee-meeting-2nd-december-2026/
END:VEVENT
END:VCALENDAR
