BEGIN:VCALENDAR
VERSION:2.0
PRODID:-//Funtington Parish Council//Meeting Calendar//EN
CALSCALE:GREGORIAN
METHOD:PUBLISH
BEGIN:VEVENT
UID:71108-20260909@funtington-pc.gov.uk
DTSTAMP:20260422T133023Z
DTSTART;VALUE=DATE:20260909
DTEND;VALUE=DATE:20260910
SUMMARY:Planning Committee Meeting &#8211\\; 9th September 2026
DESCRIPTION:Planning Committee Meeting\nView details: https://funtington-pc.gov.uk/meetings/planning-committee-meeting-9th-september-2026/
URL:https://funtington-pc.gov.uk/meetings/planning-committee-meeting-9th-september-2026/
END:VEVENT
END:VCALENDAR
