BEGIN:VCALENDAR
VERSION:2.0
PRODID:-//Funtington Parish Council//Meeting Calendar//EN
CALSCALE:GREGORIAN
METHOD:PUBLISH
BEGIN:VEVENT
UID:71107-20260805@funtington-pc.gov.uk
DTSTAMP:20260422T113710Z
DTSTART;VALUE=DATE:20260805
DTEND;VALUE=DATE:20260806
SUMMARY:Planning Committee Meeting &#8211\\; 5th August 2026
DESCRIPTION:Planning Committee Meeting\nView details: https://funtington-pc.gov.uk/meetings/planning-committee-meeting-5th-august-2026/
URL:https://funtington-pc.gov.uk/meetings/planning-committee-meeting-5th-august-2026/
END:VEVENT
END:VCALENDAR
