BEGIN:VCALENDAR
VERSION:2.0
PRODID:-//Funtington Parish Council//Meeting Calendar//EN
CALSCALE:GREGORIAN
METHOD:PUBLISH
BEGIN:VEVENT
UID:71106-20260708@funtington-pc.gov.uk
DTSTAMP:20260422T101039Z
DTSTART;VALUE=DATE:20260708
DTEND;VALUE=DATE:20260709
SUMMARY:Planning Committee Meeting &#8211\\; 8th July 2026
DESCRIPTION:Planning Committee Meeting\nView details: https://funtington-pc.gov.uk/meetings/planning-committee-meeting-8th-july-2026/
URL:https://funtington-pc.gov.uk/meetings/planning-committee-meeting-8th-july-2026/
END:VEVENT
END:VCALENDAR
