BEGIN:VCALENDAR
VERSION:2.0
PRODID:-//Funtington Parish Council//Meeting Calendar//EN
CALSCALE:GREGORIAN
METHOD:PUBLISH
BEGIN:VEVENT
UID:71105-20260603@funtington-pc.gov.uk
DTSTAMP:20260422T083837Z
DTSTART;VALUE=DATE:20260603
DTEND;VALUE=DATE:20260604
SUMMARY:Planning Committee Meeting &#8211\\; 3rd June 2026
DESCRIPTION:Planning Committee Meeting\nView details: https://funtington-pc.gov.uk/meetings/planning-committee-meeting-3rd-june-2026/
URL:https://funtington-pc.gov.uk/meetings/planning-committee-meeting-3rd-june-2026/
END:VEVENT
END:VCALENDAR
