BEGIN:VCALENDAR
VERSION:2.0
PRODID:-//Funtington Parish Council//Meeting Calendar//EN
CALSCALE:GREGORIAN
METHOD:PUBLISH
BEGIN:VEVENT
UID:71104-20260513@funtington-pc.gov.uk
DTSTAMP:20260420T100613Z
DTSTART;VALUE=DATE:20260513
DTEND;VALUE=DATE:20260514
SUMMARY:Planning Committee Meeting &#8211\\; 13th May 2026
DESCRIPTION:Planning Committee Meeting\nView details: https://funtington-pc.gov.uk/meetings/planning-committee-meeting-13th-may-2026/
URL:https://funtington-pc.gov.uk/meetings/planning-committee-meeting-13th-may-2026/
END:VEVENT
END:VCALENDAR
