BEGIN:VCALENDAR
VERSION:2.0
PRODID:-//Funtington Parish Council//Meeting Calendar//EN
CALSCALE:GREGORIAN
METHOD:PUBLISH
BEGIN:VEVENT
UID:71103-20260408@funtington-pc.gov.uk
DTSTAMP:20260420T100038Z
DTSTART;VALUE=DATE:20260408
DTEND;VALUE=DATE:20260409
SUMMARY:Planning Committee Meeting &#8211\\; 8th April 2026
DESCRIPTION:Planning Committee Meeting\nView details: https://funtington-pc.gov.uk/meetings/planning-committee-meeting-8th-april-2026/
URL:https://funtington-pc.gov.uk/meetings/planning-committee-meeting-8th-april-2026/
END:VEVENT
END:VCALENDAR
