BEGIN:VCALENDAR
VERSION:2.0
PRODID:-//Funtington Parish Council//Meeting Calendar//EN
CALSCALE:GREGORIAN
METHOD:PUBLISH
BEGIN:VEVENT
UID:71034-20260204@funtington-pc.gov.uk
DTSTAMP:20260422T163706Z
DTSTART;VALUE=DATE:20260204
DTEND;VALUE=DATE:20260205
SUMMARY:Parish Council Meeting &#8211\\; 4th February 2026
DESCRIPTION:Full Council Meeting\nView details: https://funtington-pc.gov.uk/meetings/parish-council-meeting-4th-february-2026/
URL:https://funtington-pc.gov.uk/meetings/parish-council-meeting-4th-february-2026/
END:VEVENT
END:VCALENDAR
