BEGIN:VCALENDAR
VERSION:2.0
PRODID:-//Funtington Parish Council//Meeting Calendar//EN
CALSCALE:GREGORIAN
METHOD:PUBLISH
BEGIN:VEVENT
UID:71033-20260107@funtington-pc.gov.uk
DTSTAMP:20260422T163327Z
DTSTART;VALUE=DATE:20260107
DTEND;VALUE=DATE:20260108
SUMMARY:Parish Council Meeting &#8211\\; 7th January 2026
DESCRIPTION:Full Council Meeting\nView details: https://funtington-pc.gov.uk/meetings/parish-council-meeting-7th-january-2026/
URL:https://funtington-pc.gov.uk/meetings/parish-council-meeting-7th-january-2026/
END:VEVENT
END:VCALENDAR
