BEGIN:VCALENDAR
VERSION:2.0
PRODID:-//Funtington Parish Council//Meeting Calendar//EN
CALSCALE:GREGORIAN
METHOD:PUBLISH
BEGIN:VEVENT
UID:70959-20251203@funtington-pc.gov.uk
DTSTAMP:20260422T151033Z
DTSTART;VALUE=DATE:20251203
DTEND;VALUE=DATE:20251204
SUMMARY:Full Council &#8211\\; 3rd December 2025
DESCRIPTION:Full Council Meeting\nView details: https://funtington-pc.gov.uk/meetings/full-council-3rd-december-2025/
URL:https://funtington-pc.gov.uk/meetings/full-council-3rd-december-2025/
END:VEVENT
END:VCALENDAR
