BEGIN:VCALENDAR
VERSION:2.0
PRODID:-//Funtington Parish Council//Meeting Calendar//EN
CALSCALE:GREGORIAN
METHOD:PUBLISH
BEGIN:VEVENT
UID:70958-20251105@funtington-pc.gov.uk
DTSTAMP:20260422T151541Z
DTSTART;VALUE=DATE:20251105
DTEND;VALUE=DATE:20251106
SUMMARY:Full Council &#8211\\; 5th November 2025
DESCRIPTION:Full Council Meeting\nView details: https://funtington-pc.gov.uk/meetings/full-council-5th-november-2025/
URL:https://funtington-pc.gov.uk/meetings/full-council-5th-november-2025/
END:VEVENT
END:VCALENDAR
