BEGIN:VCALENDAR
VERSION:2.0
PRODID:-//Funtington Parish Council//Meeting Calendar//EN
CALSCALE:GREGORIAN
METHOD:PUBLISH
BEGIN:VEVENT
UID:70952-20250514@funtington-pc.gov.uk
DTSTAMP:20260420T101017Z
DTSTART;VALUE=DATE:20250514
DTEND;VALUE=DATE:20250515
SUMMARY:Annual Meeting of the Parish Council &#8211\\; 14th May 2025
DESCRIPTION:Annual Parish Meeting\nView details: https://funtington-pc.gov.uk/meetings/annual-meeting-of-the-parish-council-14th-may-2025/
URL:https://funtington-pc.gov.uk/meetings/annual-meeting-of-the-parish-council-14th-may-2025/
END:VEVENT
END:VCALENDAR
