BEGIN:VCALENDAR
VERSION:2.0
PRODID:-//Funtington Parish Council//Meeting Calendar//EN
CALSCALE:GREGORIAN
METHOD:PUBLISH
BEGIN:VEVENT
UID:70950-20250305@funtington-pc.gov.uk
DTSTAMP:20260424T080808Z
DTSTART;VALUE=DATE:20250305
DTEND;VALUE=DATE:20250306
SUMMARY:Full Council &#8211\\; 5th March 2025
DESCRIPTION:Full Council Meeting\nView details: https://funtington-pc.gov.uk/meetings/full-council-5th-march-2025/
URL:https://funtington-pc.gov.uk/meetings/full-council-5th-march-2025/
END:VEVENT
END:VCALENDAR
