BEGIN:VCALENDAR
VERSION:2.0
PRODID:-//Funtington Parish Council//Meeting Calendar//EN
CALSCALE:GREGORIAN
METHOD:PUBLISH
BEGIN:VEVENT
UID:70949-20250205@funtington-pc.gov.uk
DTSTAMP:20260422T085021Z
DTSTART;VALUE=DATE:20250205
DTEND;VALUE=DATE:20250206
SUMMARY:Full Council &#8211\\; 5th February 2025
DESCRIPTION:Full Council Meeting\nView details: https://funtington-pc.gov.uk/meetings/full-council-5th-february/
URL:https://funtington-pc.gov.uk/meetings/full-council-5th-february/
END:VEVENT
END:VCALENDAR
