BEGIN:VCALENDAR
VERSION:2.0
PRODID:-//Funtington Parish Council//Meeting Calendar//EN
CALSCALE:GREGORIAN
METHOD:PUBLISH
BEGIN:VEVENT
UID:70948-20250108@funtington-pc.gov.uk
DTSTAMP:20260420T082435Z
DTSTART;VALUE=DATE:20250108
DTEND;VALUE=DATE:20250109
SUMMARY:Full Council &#8211\\; 8th January 2025
DESCRIPTION:Full Council Meeting\nView details: https://funtington-pc.gov.uk/meetings/full-council-8th-january-2025/
URL:https://funtington-pc.gov.uk/meetings/full-council-8th-january-2025/
END:VEVENT
END:VCALENDAR
