BEGIN:VCALENDAR
VERSION:2.0
PRODID:-//Funtington Parish Council//Meeting Calendar//EN
CALSCALE:GREGORIAN
METHOD:PUBLISH
BEGIN:VEVENT
UID:70822-20241204@funtington-pc.gov.uk
DTSTAMP:20260420T100037Z
DTSTART;VALUE=DATE:20241204
DTEND;VALUE=DATE:20241205
SUMMARY:Full Council &#8211\\; 4th December 2024
DESCRIPTION:Full Council Meeting\nView details: https://funtington-pc.gov.uk/meetings/full-council-4th-december-2024/
URL:https://funtington-pc.gov.uk/meetings/full-council-4th-december-2024/
END:VEVENT
END:VCALENDAR
