BEGIN:VCALENDAR
VERSION:2.0
PRODID:-//Funtington Parish Council//Meeting Calendar//EN
CALSCALE:GREGORIAN
METHOD:PUBLISH
BEGIN:VEVENT
UID:70821-20241106@funtington-pc.gov.uk
DTSTAMP:20260422T083756Z
DTSTART;VALUE=DATE:20241106
DTEND;VALUE=DATE:20241107
SUMMARY:Full Council &#8211\\; 6th November 2024
DESCRIPTION:Full Council Meeting\nView details: https://funtington-pc.gov.uk/meetings/full-council-6th-november-2024/
URL:https://funtington-pc.gov.uk/meetings/full-council-6th-november-2024/
END:VEVENT
END:VCALENDAR
