BEGIN:VCALENDAR
VERSION:2.0
PRODID:-//Funtington Parish Council//Meeting Calendar//EN
CALSCALE:GREGORIAN
METHOD:PUBLISH
BEGIN:VEVENT
UID:70820-20241002@funtington-pc.gov.uk
DTSTAMP:20260422T100759Z
DTSTART;VALUE=DATE:20241002
DTEND;VALUE=DATE:20241003
SUMMARY:Full Council &#8211\\; 2nd October 2024
DESCRIPTION:Full Council Meeting\nView details: https://funtington-pc.gov.uk/meetings/full-council-2nd-october-2024/
URL:https://funtington-pc.gov.uk/meetings/full-council-2nd-october-2024/
END:VEVENT
END:VCALENDAR
