BEGIN:VCALENDAR
VERSION:2.0
PRODID:-//Funtington Parish Council//Meeting Calendar//EN
CALSCALE:GREGORIAN
METHOD:PUBLISH
BEGIN:VEVENT
UID:70546-20210223@funtington-pc.gov.uk
DTSTAMP:20260422T114225Z
DTSTART;VALUE=DATE:20210223
DTEND;VALUE=DATE:20210224
SUMMARY:Neighbourhood Plan Meeting &#8211\\; 23rd February 2021
DESCRIPTION:Neighbourhood Plan Steering Group Meeting\nView details: https://funtington-pc.gov.uk/meetings/neighbourhood-plan-meeting-23rd-february-2021/
URL:https://funtington-pc.gov.uk/meetings/neighbourhood-plan-meeting-23rd-february-2021/
END:VEVENT
END:VCALENDAR
