BEGIN:VCALENDAR
VERSION:2.0
PRODID:-//Funtington Parish Council//Meeting Calendar//EN
CALSCALE:GREGORIAN
METHOD:PUBLISH
BEGIN:VEVENT
UID:70540-20220614@funtington-pc.gov.uk
DTSTAMP:20260422T100456Z
DTSTART;VALUE=DATE:20220614
DTEND;VALUE=DATE:20220615
SUMMARY:Neighbourhood Plan Meeting &#8211\\; 14th June 2022
DESCRIPTION:Neighbourhood Plan Steering Group Meeting\nView details: https://funtington-pc.gov.uk/meetings/neighbourhood-plan-meeting-14th-june-2022/
URL:https://funtington-pc.gov.uk/meetings/neighbourhood-plan-meeting-14th-june-2022/
END:VEVENT
END:VCALENDAR
