BEGIN:VCALENDAR
VERSION:2.0
PRODID:-//Funtington Parish Council//Meeting Calendar//EN
CALSCALE:GREGORIAN
METHOD:PUBLISH
BEGIN:VEVENT
UID:70473-20240624@funtington-pc.gov.uk
DTSTAMP:20260422T195223Z
DTSTART;VALUE=DATE:20240624
DTEND;VALUE=DATE:20240625
SUMMARY:Extraordinary Meeting &#8211\\; 24th June 2024
DESCRIPTION:Full Council Meeting\nView details: https://funtington-pc.gov.uk/meetings/full-council-24th-june-2024/
URL:https://funtington-pc.gov.uk/meetings/full-council-24th-june-2024/
END:VEVENT
END:VCALENDAR
