BEGIN:VCALENDAR
VERSION:2.0
PRODID:-//Funtington Parish Council//Meeting Calendar//EN
CALSCALE:GREGORIAN
METHOD:PUBLISH
BEGIN:VEVENT
UID:70423-20230131@funtington-pc.gov.uk
DTSTAMP:20260422T164044Z
DTSTART;VALUE=DATE:20230131
DTEND;VALUE=DATE:20230201
SUMMARY:Full Council Meetings &#8211\\; 2023
DESCRIPTION:Full Council Meeting\nView details: https://funtington-pc.gov.uk/meetings/meetings-2023/
URL:https://funtington-pc.gov.uk/meetings/meetings-2023/
END:VEVENT
END:VCALENDAR
